BEGIN:VCALENDAR
VERSION:2.0
PRODID:-//Tukios.com/
BEGIN:VEVENT
UID:4eae031e-4c7c-4057-8951-69ea48906963@www.oliveirafuneralhomes.com
DTSTAMP:20260424T041759Z
DTSTART:20260427T140000Z
DTEND:20260427T150000Z
SUMMARY:Mass
DESCRIPTION:
URL:https://www.oliveirafuneralhomes.com/obituaries/leo-gendreau
LOCATION:Holy Trinity Church Stafford Road  Fall River MA 02721
GEO:41.6759223;-71.1545103
END:VEVENT
END:VCALENDAR